BEGIN:VCALENDAR
VERSION:2.0
PRODID:-//Tukios.com/
BEGIN:VEVENT
UID:4838a5d0-6889-4e0f-8cbc-3ff60dda2792@www.stenshoelhouske.com
DTSTAMP:20260421T225919Z
DTSTART:20260502T180000Z
DTEND:20260502T190000Z
SUMMARY:Funeral Service
DESCRIPTION:
URL:https://www.stenshoelhouske.com/obituaries/russell-brown
LOCATION:Stenshoel-Houske Funeral Home 615 S Minnesota St  Crookston MN 
	56716
GEO:47.7706461;-96.6173742
END:VEVENT
END:VCALENDAR