BEGIN:VCALENDAR
VERSION:2.0
PRODID:-//Tukios.com/
BEGIN:VEVENT
UID:369b0ac4-82fa-44a2-a348-24579d639926@www.stenshoelhouske.com
DTSTAMP:20260421T230456Z
DTSTART:20260501T230000Z
DTEND:20260502T010000Z
SUMMARY:Public Visitation
DESCRIPTION:
URL:https://www.stenshoelhouske.com/obituaries/russell-brown
LOCATION:Stenshoel-Houske Funeral Home 615 S Minnesota St  Crookston MN 
	56716
GEO:47.7706461;-96.6173742
END:VEVENT
END:VCALENDAR