BEGIN:VCALENDAR
VERSION:2.0
PRODID:-//Tukios.com/
BEGIN:VEVENT
UID:8f09f57a-f4bf-460f-8abf-f45db968464b@www.stenshoelhouske.com
DTSTAMP:20260420T154357Z
DTSTART:20260424T190000Z
DTEND:20260424T200000Z
SUMMARY:Memorial Service
DESCRIPTION:
URL:https://www.stenshoelhouske.com/obituaries/pamela-grove
LOCATION:Trinity Lutheran Church 205 S Broadway  Crookston MN 56716
GEO:47.7724301;-96.6071539
END:VEVENT
END:VCALENDAR