BEGIN:VCALENDAR
VERSION:2.0
PRODID:-//Tukios.com/
BEGIN:VEVENT
UID:261a42fe-b9d7-4bda-bff9-1a376ca15110@www.stenshoelhouske.com
DTSTAMP:20260420T154733Z
DTSTART:20260424T180000Z
DTEND:20260424T190000Z
SUMMARY:Visitation
DESCRIPTION:
URL:https://www.stenshoelhouske.com/obituaries/pamela-grove
LOCATION:Trinity Lutheran Church 205 S Broadway  Crookston MN 56716
GEO:47.7724301;-96.6071539
END:VEVENT
END:VCALENDAR