BEGIN:VCALENDAR
VERSION:2.0
PRODID:-//Tukios.com/
BEGIN:VEVENT
UID:aed1c8b0-0fa2-4a9a-b694-3156f9ee6b31@www.stenshoelhouske.com
DTSTAMP:20260423T205302Z
DTSTART:20260501T160000Z
DTEND:20260501T170000Z
SUMMARY:Graveside Service
DESCRIPTION:
URL:https://www.stenshoelhouske.com/obituaries/mariann-averill
LOCATION:Oakdale Cemetery  Memorial Dr  Crookston MN 56716
GEO:47.7819369;-96.6183944
END:VEVENT
END:VCALENDAR