BEGIN:VCALENDAR
VERSION:2.0
PRODID:-//Tukios.com/
BEGIN:VEVENT
UID:83aae893-633f-418d-be02-ad55fbde8702@www.stenshoelhouske.com
DTSTAMP:20260423T205308Z
DTSTART:20260501T150000Z
DTEND:20260501T160000Z
SUMMARY:Visitation
DESCRIPTION:
URL:https://www.stenshoelhouske.com/obituaries/mariann-averill
LOCATION:Stenshoel-Houske Funeral Home 615 S Minnesota St  CROOKSTON MN 
	56716
GEO:47.7706461;-96.6173742
END:VEVENT
END:VCALENDAR